BEGIN:VCALENDAR
VERSION:2.0
PRODID:-//SemanaAzul - ECPv6.15.20//NONSGML v1.0//EN
CALSCALE:GREGORIAN
METHOD:PUBLISH
X-ORIGINAL-URL:https://semanaazul.org
X-WR-CALDESC:Eventos para SemanaAzul
REFRESH-INTERVAL;VALUE=DURATION:PT1H
X-Robots-Tag:noindex
X-PUBLISHED-TTL:PT1H
BEGIN:VTIMEZONE
TZID:America/Sao_Paulo
BEGIN:STANDARD
TZOFFSETFROM:-0300
TZOFFSETTO:-0300
TZNAME:-03
DTSTART:20230101T000000
END:STANDARD
END:VTIMEZONE
BEGIN:VTIMEZONE
TZID:UTC
BEGIN:STANDARD
TZOFFSETFROM:+0000
TZOFFSETTO:+0000
TZNAME:UTC
DTSTART:20230101T000000
END:STANDARD
END:VTIMEZONE
BEGIN:VEVENT
DTSTART;TZID=America/Sao_Paulo:20240327T180000
DTEND;TZID=America/Sao_Paulo:20240327T180000
DTSTAMP:20260421T160608
CREATED:20240327T174431Z
LAST-MODIFIED:20240330T015809Z
UID:1616-1711562400-1711562400@semanaazul.org
SUMMARY:Funciones amigables en todos los cines del Municipio de La Costa
DESCRIPTION:CINES: GRAN TUYÚ (SAN CLEMENTE) – YANEL (SANTA TERESITA) – ARENAS (SAN BERNARDO) – CALIFORNIA (MAR DE AJO) \n\n\n\nLas funciones amigables están Ideadas para ampliar la diversidad de espectadores. Son funciones con estímulos cuidados👌\, especialmente recomendadas para personas neuro divergentes o dentro del trastorno del espectro autista.  \n\n\n\nSe caracterizan por la reducción y cuidado de estímulos del entorno. Quien elija participar de esta función se dispone a disfrutar las condiciones de sonido controlado🔉\, las formas y la intensidad de uso de las luces y el uso flexible del espacio (las personas pueden circular\, levantarse entrar y salir del espacio). Además\, se pone a disposición la historia social editable y la sinopsis de la obra en lectura fácil.  \n\n\n\nEstás funciones son gratuitas y posibles gracias a la articulación y predisposición de los Cines de La Costa representados por “Exhibidora Atlántica”.
URL:https://semanaazul.org/event/funciones-amigables-en-todos-los-cines-del-municipio-de-la-costa/
LOCATION:CINES SALAS: GRAN TUYÚ (SAN CLEMENTE)\, Avenida San Martin 181 San Clemente del Tuyú Buenos Aires\, San clemente del Tuyu\, Buenos Aires\, 7105\, Argentina
ATTACH;FMTTYPE=image/jpeg:https://semanaazul.org/wp-content/uploads/2024/03/WhatsApp-Image-2024-03-22-at-11.20.33-AM.jpg
END:VEVENT
BEGIN:VEVENT
DTSTART;TZID=America/Sao_Paulo:20240327T090000
DTEND;TZID=America/Sao_Paulo:20240327T170000
DTSTAMP:20260421T160608
CREATED:20240331T212443Z
LAST-MODIFIED:20240331T212443Z
UID:2776-1711530000-1711558800@semanaazul.org
SUMMARY:Ricardo Demirci\, líder de la Banda de "Iván y sus Amigos" en El Nueve
DESCRIPTION:“Hablar de autismo significa que la sociedad está empezando a entender que el autismo no es un cuco”\, @ivanysusamigos\, líder de @ricardodemirci\, habló con #SemanaAzul. en el lanzamiento de @canal9oficial  \n\n\n\nMirá la nota acá
URL:https://semanaazul.org/event/ricardo-demirci-lider-de-la-banda-de-ivan-y-sus-amigos-en-el-nueve/
ATTACH;FMTTYPE=image/jpeg:https://semanaazul.org/wp-content/uploads/2024/03/Canal-9.jpg
END:VEVENT
BEGIN:VEVENT
DTSTART;TZID=America/Sao_Paulo:20240327T080000
DTEND;TZID=America/Sao_Paulo:20240327T170000
DTSTAMP:20260421T160608
CREATED:20240328T105121Z
LAST-MODIFIED:20240330T015654Z
UID:1790-1711526400-1711558800@semanaazul.org
SUMMARY:Scienza en la Semana Azul
DESCRIPTION:Desde Scienza estamos llevando adelante diversas iniciativas para fomentar la concientización del día del autismo:  \n\n\n\n\nLos empleados vendrán de azul a la oficina \n\n\n\nLos tótems electrónicos de la entrada van a tener durante toda la semana en loop un video promoviendo los mensajes para concientizar sobre el autismo.  \n\n\n\nLas luces de la fachada se teñirán de azul durante toda la semana.\n\n\n\nEn las redes sociales tendremos movimiento toda la semana en torno a esta iniciativa y dejando fijos los posteos en primera línea 
URL:https://semanaazul.org/event/scienza-en-la-semana-azul/
LOCATION:Scienza\, Av. Juan de Garay 437\, Buenos Aires
ATTACH;FMTTYPE=image/jpeg:https://semanaazul.org/wp-content/uploads/2024/03/Scienza-1.jpg
END:VEVENT
BEGIN:VEVENT
DTSTART;TZID=America/Sao_Paulo:20240327T000000
DTEND;TZID=America/Sao_Paulo:20240401T235959
DTSTAMP:20260421T160608
CREATED:20240328T173126Z
LAST-MODIFIED:20240402T111905Z
UID:2090-1711497600-1712015999@semanaazul.org
SUMMARY:Jornadas sobre Museos y Autismos
DESCRIPTION:El Museo Mitre se sumó a la Semana Azul\, hasta el martes 2 de abril\, Día Mundial de Concientización sobre el Autismo. \n\n\n\nPara ello\, ofrece el registro a sus pioneras Jornadas sobre Museos y Autismos:  \n\n\n\nEnterate acá.
URL:https://semanaazul.org/event/jornadas-sobre-museos-y-autismos/
ATTACH;FMTTYPE=image/jpeg:https://semanaazul.org/wp-content/uploads/2024/03/museo-mitre.jpg
END:VEVENT
BEGIN:VEVENT
DTSTART;TZID=America/Sao_Paulo:20240327T000000
DTEND;TZID=America/Sao_Paulo:20240327T235959
DTSTAMP:20260421T160608
CREATED:20240330T235913Z
LAST-MODIFIED:20240330T235914Z
UID:2703-1711497600-1711583999@semanaazul.org
SUMMARY:ADISAC se suma con charlas y campaña en redes sociales
DESCRIPTION:La #SemanaAzul se propone aprovechar la coyuntura de 6 feriados consecutivos para ganar visibilidad en los medios de comunicación y generar conciencia sobre el autismo. El objetivo es promover la consigna #hablemosdeautismo durante la semana previa al Día Mundial de Concientización sobre el Autismo que se conmemora el 2 de Abril. \n\n\n\nUno de cada treinta y seis chicos tiene diagnóstico de autismo \n\n\n\nEs fundamental el diagnóstico temprano
URL:https://semanaazul.org/event/adisac-se-suma-con-charlas-y-campana-en-redes-sociales/
ATTACH;FMTTYPE=image/png:https://semanaazul.org/wp-content/uploads/2024/03/Jb2xYVbDOJ0z-semana-azul-autismo.png
END:VEVENT
BEGIN:VEVENT
DTSTART;TZID=America/Sao_Paulo:20240327T000000
DTEND;TZID=America/Sao_Paulo:20240327T235959
DTSTAMP:20260421T160608
CREATED:20240329T151547Z
LAST-MODIFIED:20240330T160942Z
UID:2371-1711497600-1711583999@semanaazul.org
SUMMARY:Futuros publicitarios se visten de azul
DESCRIPTION:Impulsados por la causa\, los futuros técnicos en publicidad del colegio J. B. Alberdi de la Red VANEDUC se vistieron de azul. Junto al equipo de docentes\, secretario\, bedel y cuerpo directivo se sumaron a la #semanaazul.Comprometidos por la causa sobre la concientización sobre el AUTISMO. Convencidos de que la comunicación es fundamental para cambiar realidades sociales.
URL:https://semanaazul.org/event/futuros-publicitarios-se-visten-de-azul/
ATTACH;FMTTYPE=image/jpeg:https://semanaazul.org/wp-content/uploads/2024/03/alberdi.jpg
ORGANIZER;CN="COLEGIO J. B. ALBERDI - UAI - VANEDUC":MAILTO:marcela.mosquera@uai.edu.ar
END:VEVENT
BEGIN:VEVENT
DTSTART;TZID=America/Sao_Paulo:20240327T000000
DTEND;TZID=America/Sao_Paulo:20240327T235959
DTSTAMP:20260421T160608
CREATED:20240328T180304Z
LAST-MODIFIED:20240330T015532Z
UID:2131-1711497600-1711583999@semanaazul.org
SUMMARY:El Palacio Municipal de Tigre\, Azul para concientizar sobre el autismo
DESCRIPTION:El diario digital Independiente\, Más Noticias\, hizo referencia sobre la Semana Azul en sus redes\, mostrando el palacio municipal de Tigre iluminado de color azul. \n\n\n\n“El @MunicipioTigre a favor de la concientización sobre autismo”\, señalaron a través de la red social X. \n\n\n\n\nEl @MunicipioTigre  a favor de la concientización sobre autismo https://t.co/RWTNhNjyzX @ZamoraJulio @icastrocranwell pic.twitter.com/FbB6Fn01jo — Más Noticias (@masnoticias_ok) March 27\, 2024\n\n\n\n\nLeé la nota completa acá.
URL:https://semanaazul.org/event/repercusiones-mediaticas-por-la-semana-azul/
ATTACH;FMTTYPE=image/jpeg:https://semanaazul.org/wp-content/uploads/2024/03/mas-noticias-1536x1153-1.jpg
END:VEVENT
BEGIN:VEVENT
DTSTART;TZID=America/Sao_Paulo:20240327T000000
DTEND;TZID=America/Sao_Paulo:20240327T235959
DTSTAMP:20260421T160608
CREATED:20240328T175347Z
LAST-MODIFIED:20240330T015332Z
UID:2110-1711497600-1711583999@semanaazul.org
SUMMARY:El golazo de Di María contra El Salvador\, ahora con el filtro de la Semana Azul
DESCRIPTION:A través de sus redes sociales\, la señal TyC Sports compartió el golazo de Ángel Di María para la Selección Argentina en el amistoso contra El Salvador con el filtro de color azul por la Semana Azul. \n\n\n\nJunto con un reel de Instagram\, publicaron: “Como este GOLAZO es para verlo mil veces\, ahora lo publico con un filtro de este color por la Semana Azul\, 7 días para concientizar sobre el autismo que ya arrancó y termina el 2 de abril\, Día Mundial de Concientización sobre el Autismo 💙”. \n\n\n\nMiralo acá.
URL:https://semanaazul.org/event/el-golazo-de-di-maria-contra-el-salvador-ahora-con-el-filtro-de-la-semana-azul/
ATTACH;FMTTYPE=image/webp:https://semanaazul.org/wp-content/uploads/2024/03/286906.webp
END:VEVENT
BEGIN:VEVENT
DTSTART;TZID=America/Sao_Paulo:20240327T000000
DTEND;TZID=America/Sao_Paulo:20240327T235959
DTSTAMP:20260421T160608
CREATED:20240328T174458Z
LAST-MODIFIED:20240330T022835Z
UID:2105-1711497600-1711583999@semanaazul.org
SUMMARY:Radio Conexión Abierta azul
DESCRIPTION:Nuestro medio\, perteneciente a la Universidad Abierta Interamericana\, se suma a la campaña “SEMANA AZUL”. \n\n\n\nDe este modo\, nuestro color institucional pasará del bordó\, al azul\, aplicado en nuestra web\, redes sociales\, flyers\, logo\, photo props\, e indumentaria de nuestro personal y conductores de nuestra emisora. 
URL:https://semanaazul.org/event/radio-conexion-abierta-azul/
ATTACH;FMTTYPE=image/jpeg:https://semanaazul.org/wp-content/uploads/2024/03/ESTUDIO_DE_RADIO_-_PLACA_Y_LOGOS_2.jpg
ORGANIZER;CN="RADIO CONEXION ABIERTA":MAILTO:daniela.ferrin@uai.edu.ar
END:VEVENT
BEGIN:VEVENT
DTSTART;TZID=America/Sao_Paulo:20240327T000000
DTEND;TZID=America/Sao_Paulo:20240327T235959
DTSTAMP:20260421T160608
CREATED:20240328T162819Z
LAST-MODIFIED:20240330T022658Z
UID:2006-1711497600-1711583999@semanaazul.org
SUMMARY:Entrevista desde una perspectiva médica
DESCRIPTION:Entrevista en nuestras Redes Sociales a la Psicóloga Gisela Gil Ballester (MN. 37687 y MP. 97971) y a la Dra. Valeria Daniele (MN. 164374 y MP. 456432) del Equipo Cloe (@equipo_cloe)\, que aportaron sus conocimientos especializados para entender el Autismo desde una perspectiva médica e interdisciplinaria.Instagram de Diagnóstico Rojas: @diagnosticorojasFacebook de Diagnóstico Rojas: DiagnosticoRojasEntrevista completa en http://www.diagnosticorojas.com.ar/semana-azul/  
URL:https://semanaazul.org/event/entrevista-desde-una-perspectiva-medica/
ATTACH;FMTTYPE=image/webp:https://semanaazul.org/wp-content/uploads/2024/03/banner-home-celu.webp
ORGANIZER;CN="Diagn%C3%B3stico Rojas":MAILTO:claudia.rogocki@diagnosticorojas.com.ar
END:VEVENT
BEGIN:VEVENT
DTSTART;TZID=America/Sao_Paulo:20240327T000000
DTEND;TZID=America/Sao_Paulo:20240327T235959
DTSTAMP:20260421T160608
CREATED:20240328T153928Z
LAST-MODIFIED:20240330T021932Z
UID:1935-1711497600-1711583999@semanaazul.org
SUMMARY:UAI BRILLA DE AZUL
DESCRIPTION:La UAI\, Universidad Abierta Interamericana y la red de colegios de la Red VANEDUC se unen a las Semana Azul. Iluminando la fachada de nuestro edificio.Viralizando en la redes sociales la causa junto al equipo de docentes de la Facultad de Ciencias de la Comunicación.¡Sumate a esta iniciativa junto a UAI y los colegios de la Red Vaneduc para hacer del mundo un lugar más inclusivo!2 DE ABRIL- DÍA MUNDIAL DE LA CONCIENTIZACIÓN SOBRE EL AUTISMO.
URL:https://semanaazul.org/event/uai-brilla-de-azul/
LOCATION:UAI – UNIVERSIDAD ABIERTA INTERAMERICANA\, Av. Congreso 1570 Buenos Aires
ATTACH;FMTTYPE=image/png:https://semanaazul.org/wp-content/uploads/2024/03/18GN9YGdqoE9-FACHADA-UAI-SEMANA-AZUL-2.png
ORGANIZER;CN="UAI - UNIVERSIDAD ABIERTA INTERAMERICANA":MAILTO:marcela.mosquera@uai.edu.ar
END:VEVENT
BEGIN:VEVENT
DTSTART;TZID=America/Sao_Paulo:20240327T000000
DTEND;TZID=America/Sao_Paulo:20240327T235959
DTSTAMP:20260421T160608
CREATED:20240327T183808Z
LAST-MODIFIED:20240330T021823Z
UID:1656-1711497600-1711583999@semanaazul.org
SUMMARY:Charla de concientización – Colegio Esteban Echeverría (nivel secundario)
DESCRIPTION:Al ingresar al colegio\, se les colocará a los alumnos\, padres\, docentes y a todo el personal de la institución un listón color azul\, en conmemoración al Día Mundial de la Concientización sobre el Autismo. \n\n\n\nLas Lic. Giuliana Pollio y Jennifer Baldassarre\, especialistas en el tema\, darán una charla a los alumnos/as y Profesores.
URL:https://semanaazul.org/event/semana-azul-colegio-esteban-echeverria-nivel-secundario/
LOCATION:Colegio Esteban Echeverría\, Av. San juan 983 Buenos Aires\, Argentina
ATTACH;FMTTYPE=image/jpeg:https://semanaazul.org/wp-content/uploads/2024/03/SE5-768x1127-1.jpg
ORGANIZER;CN="Colegio Esteban Echeverr%C3%ADa":MAILTO:echeverria@vaneduc.edu.ar
END:VEVENT
BEGIN:VEVENT
DTSTART;TZID=America/Sao_Paulo:20240327T000000
DTEND;TZID=America/Sao_Paulo:20240327T235959
DTSTAMP:20260421T160608
CREATED:20240327T183227Z
LAST-MODIFIED:20240330T021651Z
UID:1648-1711497600-1711583999@semanaazul.org
SUMMARY:Trabajo con alumnos - Colegio Esteban Echeverría (nivel primario)
DESCRIPTION:Prepararán frases para trabajar con los alumnos/as y enviarán una tarjeta alusiva a todas las Familias a través de la plataforma Fidu. \n\n\n\nAl ingresar al colegio\, se les colocará a los alumnos\, padres\, docentes y a todo el personal de la institución un listón color azul\, en conmemoración al Día Mundial de la Concientización sobre el Autismo.
URL:https://semanaazul.org/event/semana-azul-colegio-esteban-echeverria-27-03/
LOCATION:Colegio Esteban Echeverría\, Av. San juan 983 Buenos Aires\, Argentina
ATTACH;FMTTYPE=image/jpeg:https://semanaazul.org/wp-content/uploads/2024/03/aasfasdf.jpg
END:VEVENT
BEGIN:VEVENT
DTSTART;TZID=America/Sao_Paulo:20240327T000000
DTEND;TZID=America/Sao_Paulo:20240327T063000
DTSTAMP:20260421T160608
CREATED:20240328T000811Z
LAST-MODIFIED:20240330T021433Z
UID:1772-1711497600-1711521000@semanaazul.org
SUMMARY:Iluminación del Centro Cívico y el Puente del Bicentenario de San Juan
DESCRIPTION:El Gobierno de San Juan iluminó dos de sus paseos más icónicos en adhesión a la Semana Azul y la concientización sobre el autismo.
URL:https://semanaazul.org/event/iluminacion-del-centro-civico-y-el-puente-del-bicentenario-de-san-juan/
LOCATION:Puente del Bicentenario\, Av. José Ignacio de la Roza Oeste 801-807\, San Juan
ATTACH;FMTTYPE=image/jpeg:https://semanaazul.org/wp-content/uploads/2024/03/Puente-del-Bicentenario-1.jpg
END:VEVENT
BEGIN:VEVENT
DTSTART;TZID=America/Sao_Paulo:20240327T000000
DTEND;TZID=America/Sao_Paulo:20240327T000100
DTSTAMP:20260421T160608
CREATED:20240330T160504Z
LAST-MODIFIED:20240330T160650Z
UID:2581-1711497600-1711497660@semanaazul.org
SUMMARY:Entrevista con Luis Novaresio en La Nación +
DESCRIPTION:En Buenos Días Nación\, el presidente de Teactiva\, Paulo Morales\, explicó su experiencia como padre de un niño con autismo y todos los detalles de lo que será La Semana Azul\, para concientizar sobre el autismo.
URL:https://semanaazul.org/event/entrevista-con-luis-novaresio-en-la-nacion/
ATTACH;FMTTYPE=image/jpeg:https://semanaazul.org/wp-content/uploads/2024/03/novaresio.jpg
END:VEVENT
BEGIN:VEVENT
DTSTART;TZID=America/Sao_Paulo:20240326T200000
DTEND;TZID=America/Sao_Paulo:20240326T203000
DTSTAMP:20260421T160608
CREATED:20240331T134218Z
LAST-MODIFIED:20240331T134219Z
UID:2723-1711483200-1711485000@semanaazul.org
SUMMARY:Entrevista en Radio con Vos para el lanzamiento de la Semana Azul
DESCRIPTION:El presidente de la asociación sin fines de lucro Teactiva\, fue invitado al programa Argentinos de Bien que conduce la periodista Nuria Am en Radio con Vos. “Nos pareció que era una buena oportunidad promover espacios para hablar de autismo en estos días que no abundan las noticias”\, contó Paulo Morales.
URL:https://semanaazul.org/event/entrevista-en-radio-con-vos-para-el-lanzamiento-de-la-semana-azul/
ATTACH;FMTTYPE=image/jpeg:https://semanaazul.org/wp-content/uploads/2024/03/radioconvos.jpg
END:VEVENT
BEGIN:VEVENT
DTSTART;TZID=UTC:20240326T113000
DTEND;TZID=UTC:20240326T153000
DTSTAMP:20260421T160608
CREATED:20240322T172943Z
LAST-MODIFIED:20240330T021315Z
UID:867-1711452600-1711467000@semanaazul.org
SUMMARY:Teactiva: Miradas que conectan
DESCRIPTION:La jornada “miradas que conectan”\, que organiza la Asociación Civil TEActiva\, es unencuentro entre todos los sectores que en mayor o menor medida vienen trabajando en laconcientización del autismo y en el diseño de políticas públicas que mejoren la convivenciaentre las personas con esta condición\, sus familias y la sociedad. \n\n\n\nA un día del inicio de la Semana Azul\, que será del 27/3 al 2/4\, convocamos a referentesrepresentativos para compartir sus historias y visión sobre los desafíos que nos plantea elautismo: Salud\, Estado\, Deporte\, Cultura y Empresas. Y\, por supuesto\, las ONGs que son elmotor principal que empuja para que todo se movilice en la búsqueda de soluciones.
URL:https://semanaazul.org/event/teactiva-miradas-que-conectan/
LOCATION:Mooi Alto Palermo\, Arenales 3350\, Ciudad Autónoma de Buenos Aires\, Argentina
ATTACH;FMTTYPE=image/jpeg:https://semanaazul.org/wp-content/uploads/2024/03/f9efc4fa-c80d-44e4-b860-c90573cd1298.jpg
END:VEVENT
BEGIN:VEVENT
DTSTART;TZID=America/Sao_Paulo:20240326T000000
DTEND;TZID=America/Sao_Paulo:20240401T235959
DTSTAMP:20260421T160608
CREATED:20240328T185140Z
LAST-MODIFIED:20240402T111817Z
UID:2180-1711411200-1712015999@semanaazul.org
SUMMARY:Iluminación de los edificios y monumentos de San Juan
DESCRIPTION:La ciudad  de San Juan se unió desde el primer momento a este gran movimiento denominado Semana Azul\, iluminando sus edificios y paseos más icónicos para concientizar sobre el autismo.
URL:https://semanaazul.org/event/entrevista-a-ian-moche-2/
ATTACH;FMTTYPE=image/jpeg:https://semanaazul.org/wp-content/uploads/2024/03/Sanjuanzul.jpg
END:VEVENT
BEGIN:VEVENT
DTSTART;TZID=America/Sao_Paulo:20240326T000000
DTEND;TZID=America/Sao_Paulo:20240326T235959
DTSTAMP:20260421T160608
CREATED:20240327T182421Z
LAST-MODIFIED:20240330T020928Z
UID:1638-1711411200-1711497599@semanaazul.org
SUMMARY:Capacitación docente - Colegio Esteban Echeverría (nivel inicial)
DESCRIPTION:Al ingresar al colegio\, se les colocará a los alumnos\, padres\, docentes y a todo el personal de la institución un listón color azul\, en conmemoración al Día Mundial de la Concientización sobre el Autismo. \n\n\n\nCapacitación docente a cargo de Mónica Ceramico\, autora del libro “Soy Bautista”\, El mundo según mis ojos\, con el fin de comprender el mundo de un niño que vive en el espectro autista y fomentar la inclusión desde la Educación Inicial.
URL:https://semanaazul.org/event/semana-azul-colegio-esteban-echeverria/
LOCATION:Colegio Esteban Echeverria\, Av. San juan 983 Buenos Aires\, Argentina\, 1147
ATTACH;FMTTYPE=image/jpeg:https://semanaazul.org/wp-content/uploads/2024/03/semana-eche.jpg
END:VEVENT
BEGIN:VEVENT
DTSTART;TZID=America/Sao_Paulo:20240325T140000
DTEND;TZID=America/Sao_Paulo:20240325T140000
DTSTAMP:20260421T160608
CREATED:20240328T185247Z
LAST-MODIFIED:20240330T020340Z
UID:2173-1711375200-1711375200@semanaazul.org
SUMMARY:Adhesión a la Semana Azul - Teatro Maipo
DESCRIPTION:El Teatro Maipo se adhiere a la Semana Azul.
URL:https://semanaazul.org/event/adhesion-a-la-semana-azul-teatro-maipo/
LOCATION:Teatro Maipo<br>\, Esmeralda 443\, CABA\, C1007\, Argentina
ATTACH;FMTTYPE=image/jpeg:https://semanaazul.org/wp-content/uploads/2024/03/maipo.jpg
END:VEVENT
BEGIN:VEVENT
DTSTART;TZID=America/Sao_Paulo:20240325T080000
DTEND;TZID=America/Sao_Paulo:20240328T170000
DTSTAMP:20260421T160608
CREATED:20240328T194436Z
LAST-MODIFIED:20240330T020039Z
UID:2198-1711353600-1711645200@semanaazul.org
SUMMARY:El Colegio Leonardo Da Vinci se vistió de Azul
DESCRIPTION:El colegio Leonardo Da VInci organizó jornadas especialmente dedicadas a la semana azul y la concientización del autismo en todos sus cursos.
URL:https://semanaazul.org/event/el-colegio-leonardo-da-vinci-se-vistio-de-azul/
ATTACH;FMTTYPE=image/jpeg:https://semanaazul.org/wp-content/uploads/2024/03/b8cb362e-d311-4ca8-b372-241d4e15d512.jpg
END:VEVENT
BEGIN:VEVENT
DTSTART;TZID=America/Sao_Paulo:20240325T080000
DTEND;TZID=America/Sao_Paulo:20240325T170000
DTSTAMP:20260421T160608
CREATED:20240330T132849Z
LAST-MODIFIED:20240330T141832Z
UID:2539-1711353600-1711386000@semanaazul.org
SUMMARY:Corazones Azules\, el hit sobre el autismo que se puede escuchar en Sptify y Youtube
DESCRIPTION:Una de las acciones para compartir y escuchar con atención es el tema que compuso Guille Ceballos. Podes escucharlo por Spotify  y YouTube
URL:https://semanaazul.org/event/corazones-azules-el-hit-sobre-el-autismo-que-se-puede-escuchar-en-sptify-y-youtube/
ATTACH;FMTTYPE=image/jpeg:https://semanaazul.org/wp-content/uploads/2024/03/afasd.jpg
END:VEVENT
END:VCALENDAR