BEGIN:VCALENDAR
VERSION:2.0
PRODID:-//SemanaAzul - ECPv6.15.20//NONSGML v1.0//EN
CALSCALE:GREGORIAN
METHOD:PUBLISH
X-ORIGINAL-URL:https://semanaazul.org
X-WR-CALDESC:Eventos para SemanaAzul
REFRESH-INTERVAL;VALUE=DURATION:PT1H
X-Robots-Tag:noindex
X-PUBLISHED-TTL:PT1H
BEGIN:VTIMEZONE
TZID:America/Sao_Paulo
BEGIN:STANDARD
TZOFFSETFROM:-0300
TZOFFSETTO:-0300
TZNAME:-03
DTSTART:20230101T000000
END:STANDARD
END:VTIMEZONE
BEGIN:VTIMEZONE
TZID:UTC
BEGIN:STANDARD
TZOFFSETFROM:+0000
TZOFFSETTO:+0000
TZNAME:UTC
DTSTART:20230101T000000
END:STANDARD
END:VTIMEZONE
BEGIN:VEVENT
DTSTART;TZID=America/Sao_Paulo:20240329T080000
DTEND;TZID=America/Sao_Paulo:20240329T170000
DTSTAMP:20260421T102847
CREATED:20240402T140739Z
LAST-MODIFIED:20240402T140832Z
UID:2930-1711699200-1711731600@semanaazul.org
SUMMARY:Entrevista en CNN radio con el fundador de APAdeA
DESCRIPTION:En diálogo con CNN Radio\, Horacio Joffre Galibert\, fundador y presidente de  APAdeA habló con Julieta Tarrés sobre la Semana Azul y la importancia de generar políticas públicas sobre el espectro autista.  “El autismo es la disciplina que más le está haciendo pensar a la ciencia”\, dijo uno de los referentes de la visibilización del autismo en la Argentina
URL:https://semanaazul.org/event/entrevista-en-cnn-radio/
ATTACH;FMTTYPE=image/jpeg:https://semanaazul.org/wp-content/uploads/2024/04/asfdesdas.jpg
END:VEVENT
BEGIN:VEVENT
DTSTART;TZID=America/Sao_Paulo:20240329T080000
DTEND;TZID=America/Sao_Paulo:20240329T170000
DTSTAMP:20260421T102847
CREATED:20240329T125633Z
LAST-MODIFIED:20240329T125634Z
UID:2296-1711699200-1711731600@semanaazul.org
SUMMARY:El Museo de Arte de Tigre\, comprometido con el autismo y la Semana Azul
DESCRIPTION:Continúan las acciones en el municipio de Tigre\, con acciones concretas para concientizar sobre la importancia de que Hablemos de Autismo en la Semana Azul. Además de la iluminación de edificios y monumentos\, sumó banderas en el Museo de Arte.
URL:https://semanaazul.org/event/el-museo-de-arte-de-tigre-comprometido-con-el-autismo-y-la-semana-azul/
LOCATION:Museo de Arte de Tigre\, Av. Victorica 972\, Tigre\, Buenos Aires\, Argentina
ATTACH;FMTTYPE=image/jpeg:https://semanaazul.org/wp-content/uploads/2024/03/562a70aa-1c3f-4e8a-953e-9c83cb04dc21.jpg
END:VEVENT
BEGIN:VEVENT
DTSTART;TZID=America/Sao_Paulo:20240329T000000
DTEND;TZID=America/Sao_Paulo:20240329T235959
DTSTAMP:20260421T102847
CREATED:20240402T164725Z
LAST-MODIFIED:20240402T164726Z
UID:2963-1711670400-1711756799@semanaazul.org
SUMMARY:BICICLETEADA - Semana concientización por el Autismo
DESCRIPTION:Bicicleteada con bicicletas del dispositivo Disfrutarte en bici de la ONG Diversamente Posibles + 4 carrozas + familias autoconvocadas con sus bicicletas. \n\n\n\nCasi 200 participantes. \n\n\n\nCierre con mural de la mano de la ONG Diacco.
URL:https://semanaazul.org/event/bicicleteada-semana-concientizacion-por-el-autismo/
ATTACH;FMTTYPE=image/webp:https://semanaazul.org/wp-content/uploads/2024/04/tour-azul-1.webp
ORGANIZER;CN="Asociaci%C3%B3n Civil Diversamente Posibles":MAILTO:contacto@diversamenteposibles.org
END:VEVENT
BEGIN:VEVENT
DTSTART;TZID=America/Sao_Paulo:20240329T000000
DTEND;TZID=America/Sao_Paulo:20240329T235959
DTSTAMP:20260421T102847
CREATED:20240328T175041Z
LAST-MODIFIED:20240329T032200Z
UID:2123-1711670400-1711756799@semanaazul.org
SUMMARY:Radio Conexión Abierta azul
DESCRIPTION:Nuestro medio\, perteneciente a la Universidad Abierta Interamericana\, se suma a la campaña “SEMANA AZUL”. \n\n\n\nDe este modo\, nuestro color institucional pasará del bordó\, al azul\, aplicado en nuestra web\, redes sociales\, flyers\, logo\, photo props\, e indumentaria de nuestro personal y conductores de nuestra emisora. 
URL:https://semanaazul.org/event/radio-conexion-abierta-azul-3/
ATTACH;FMTTYPE=image/jpeg:https://semanaazul.org/wp-content/uploads/2024/03/CONEXION_ABIERTA_-_CONDUCTOR.jpg
ORGANIZER;CN="RADIO CONEXION ABIERTA":MAILTO:daniela.ferrin@uai.edu.ar
END:VEVENT
BEGIN:VEVENT
DTSTART;TZID=America/Sao_Paulo:20240329T000000
DTEND;TZID=America/Sao_Paulo:20240329T235959
DTSTAMP:20260421T102847
CREATED:20240328T164942Z
LAST-MODIFIED:20240329T031916Z
UID:2043-1711670400-1711756799@semanaazul.org
SUMMARY:Entrevista a Ian Moche
DESCRIPTION:Entrevista en nuestras redes sociales a Ian Moche\, activista e influencer (@ianmoche)\, que nos explica en primera persona cómo siente y cómo percibe el mundo un niño autista\, y algunas reflexiones acerca de lo que aún nos queda pendiente como sociedad frente a esta condición.Instagram de Diagnóstico Rojas: http://www.instagram.com/diagnosticorojas/Facebook de Diagnóstico Rojas: http://www.facebook.com/DiagnosticoRojasEntrevista completa en http://www.diagnosticorojas.com.ar/semana-azul/
URL:https://semanaazul.org/event/entrevista-a-ian-moche/
ATTACH;FMTTYPE=image/jpeg:https://semanaazul.org/wp-content/uploads/2024/03/download-3.jpg
ORGANIZER;CN="Diagn%C3%B3stico Rojas":MAILTO:claudia.rogocki@diagnosticorojas.com.ar
END:VEVENT
BEGIN:VEVENT
DTSTART;TZID=America/Sao_Paulo:20240329T000000
DTEND;TZID=America/Sao_Paulo:20240329T235959
DTSTAMP:20260421T102847
CREATED:20240328T155705Z
LAST-MODIFIED:20240329T031726Z
UID:1949-1711670400-1711756799@semanaazul.org
SUMMARY:ActivArte: Mural por la diversidad en la semana del autismo en Santa teresita
DESCRIPTION:Vamos a juntarnos las cuatro ONGs y la comunidad para cocrear un mural que deje un mensaje para la semana azul. Esto será en la emblemática carabela de Santa teresita a las 15 horas. \n\n\n\nOrganizaciones: Diacco\, Diversidad en acción en La Costa\, Diversamente Posibles\, TAJOFE y TGD padres de mar de Ajó.
URL:https://semanaazul.org/event/activarte-mural-por-la-diversidad-en-la-semana-del-autismo-en-santa-teresita/
LOCATION:Carabela de Santa teresita\, Av.Costanera entre Calles 39 y 40 Santa Teresita
ATTACH;FMTTYPE=image/jpeg:https://semanaazul.org/wp-content/uploads/2024/03/mural-teresa-compressed.jpg
ORGANIZER;CN="Diacco":MAILTO:vivianagabrieleautismo@gmail.com
END:VEVENT
BEGIN:VEVENT
DTSTART;TZID=America/Sao_Paulo:20240329T000000
DTEND;TZID=America/Sao_Paulo:20240329T235959
DTSTAMP:20260421T102847
CREATED:20240328T151618Z
LAST-MODIFIED:20240329T033109Z
UID:1925-1711670400-1711756799@semanaazul.org
SUMMARY:Campaña de concientización y sensibilización
DESCRIPTION:En el contexto de la Semana Azul\, Diagnóstico Rojas participa activamente para sensibilizar y concientizar sobre el Autismo en nuestra sociedad. Este compromiso se refleja a través de distintas iniciativas de sus sedes. \n\n\n\nPor un lado\, instalaron iluminación nocturna de color azul en sus fachadas e internamente proporcionaron carteles con códigos QR que brindan acceso a información digitalizada sobre el Autismo.  \n\n\n\nAdemás\, en sus plataformas de redes sociales\, durante este período\, el logo de Diagnóstico Rojas estará acompañado por un lazo azul\, y compartirán una serie de entrevistas sobre el Autismo para enriquecer la comprensión del tema desde múltiples perspectivas. \n\n\n\nEn estas entrevistas\, cuentan con la participación de profesionales\, como la psicóloga Gisela Gil Ballester (MN. 37687 y MP. 97971) y la Dra. Valeria Daniele (MN. 164374 y MP. 456432) del Equipo Cloe (@equipo_cloe)\, que aportaron sus conocimientos especializados para entender el Autismo desde una perspectiva médica e interdisciplinaria. \n\n\n\nAdemás\, se entrevistaron a madres de hijos/as con Autismo\, quienes compartieron sus experiencias sobre cómo detectaron los primeros signos de esta condición y cómo han afrontado el proceso de diagnóstico de sus hijos/as. \n\n\n\nPor último\, conversaron con el activista e influencer Ian Moche (@ianmoche)\, que nos explicó en primera persona cómo siente y cómo percibe el mundo un niño autista\, y algunas reflexiones acerca de lo que aún nos queda pendiente como sociedad frente a esta condición. \n\n\n\nMirá el contenido completo en la web de Diagnóstico Rojas: http://www.diagnosticorojas.com.ar
URL:https://semanaazul.org/event/campana-de-concientizacion-y-sensibilizacion/
ATTACH;FMTTYPE=image/jpeg:https://semanaazul.org/wp-content/uploads/2024/03/0002bc33-ff00-402f-b547-4128a043d2b9.jpg
ORGANIZER;CN="Diagn%C3%B3stico Rojas":MAILTO:claudia.rogocki@diagnosticorojas.com.ar
END:VEVENT
BEGIN:VEVENT
DTSTART;TZID=America/Sao_Paulo:20240329T000000
DTEND;TZID=America/Sao_Paulo:20240329T235959
DTSTAMP:20260421T102847
CREATED:20240328T144841Z
LAST-MODIFIED:20240329T032702Z
UID:1885-1711670400-1711756799@semanaazul.org
SUMMARY:Teñimos las redes sociales de azul
DESCRIPTION:Durante toda la semana\, van a quedar los posteos en primera fila del perfil de Scienza y la compañía acompañará con nuevos contenidos de sensibilización en los días que siguen.
URL:https://semanaazul.org/event/tenimos-las-redes-sociales-de-azul-2/
ATTACH;FMTTYPE=image/jpeg:https://semanaazul.org/wp-content/uploads/2024/03/IG_feed_2.jpg
ORGANIZER;CN="Scienza":MAILTO:jdelsel@scienza.com.ar
END:VEVENT
BEGIN:VEVENT
DTSTART;TZID=America/Sao_Paulo:20240328T210000
DTEND;TZID=America/Sao_Paulo:20240328T230000
DTSTAMP:20260421T102847
CREATED:20240330T141048Z
LAST-MODIFIED:20240330T141049Z
UID:2556-1711659600-1711666800@semanaazul.org
SUMMARY:Hablamos de autismo en Ventana Abierta de Radio Continental
DESCRIPTION:En el programa que conduce Diego Corbalan\, el doctor Gabriel Barbagallo (columnista del programa)\, el pisquiatra infanto juvenil Christian Plebst y Luis Casanellas\, coordinador de familias de fundación brincar en AM 590
URL:https://semanaazul.org/event/hablamos-de-autismo-en-ventana-abierta-de-radio-continental/
ATTACH;FMTTYPE=image/jpeg:https://semanaazul.org/wp-content/uploads/2024/03/Ventana-ABIERTA.jpg
END:VEVENT
BEGIN:VEVENT
DTSTART;TZID=America/Sao_Paulo:20240328T200000
DTEND;TZID=America/Sao_Paulo:20240331T233000
DTSTAMP:20260421T102847
CREATED:20240328T233425Z
LAST-MODIFIED:20240329T003203Z
UID:2211-1711656000-1711927800@semanaazul.org
SUMMARY:La AMIA se suma iluminando su sede
DESCRIPTION:La sede de la AMIA se iluminó para concientizar sobre el autismo sumándose a la gran movida de la Semana Azul.
URL:https://semanaazul.org/event/la-amia-se-suma-iluminando-su-sede/
ATTACH;FMTTYPE=image/jpeg:https://semanaazul.org/wp-content/uploads/2024/03/WhatsApp_Image_2024-03-28_at_20.24.57.jpg
END:VEVENT
BEGIN:VEVENT
DTSTART;TZID=America/Sao_Paulo:20240328T200000
DTEND;TZID=America/Sao_Paulo:20240328T203000
DTSTAMP:20260421T102847
CREATED:20240331T211851Z
LAST-MODIFIED:20240331T211852Z
UID:2773-1711656000-1711657800@semanaazul.org
SUMMARY:Tyc Sports vistió de azul gran parte de su programación y sus redes
DESCRIPTION:El periodista Ariel Rodríguez\, uno de los conductores históricos de la señal\, le dedicó un bloque a la Semana Azul para que #HablemosdeAutismo. También las redes de TyC Sports\, una de las más potentes del periodismo argentino\, sumaron posteos y referencias especiales a la Semana Azul.  \n\n\n\nLo podés ver por acá
URL:https://semanaazul.org/event/tyc-sports-vistio-de-azul-gran-parte-de-su-programacion-y-sus-redes/
ATTACH;FMTTYPE=image/jpeg:https://semanaazul.org/wp-content/uploads/2024/03/Tyc-Sports.jpg
END:VEVENT
BEGIN:VEVENT
DTSTART;TZID=America/Sao_Paulo:20240328T200000
DTEND;TZID=America/Sao_Paulo:20240328T200000
DTSTAMP:20260421T102847
CREATED:20240328T171538Z
LAST-MODIFIED:20240330T015158Z
UID:2062-1711656000-1711656000@semanaazul.org
SUMMARY:Semana Azul - Programa Especial de radio.
DESCRIPTION:Este Jueves 20:00 Hs. realizaremos un programa especial concientizando sobre autismo.
URL:https://semanaazul.org/event/semana-azul-programa-especial-de-radio/
ATTACH;FMTTYPE=image/jpeg:https://semanaazul.org/wp-content/uploads/2024/03/o80Ujq0m4cdM-TIEMPOS-DE-CAMBIO-FONDO-1536x1092-1.jpg
END:VEVENT
BEGIN:VEVENT
DTSTART;TZID=America/Sao_Paulo:20240328T180000
DTEND;TZID=America/Sao_Paulo:20240328T183000
DTSTAMP:20260421T102847
CREATED:20240329T022234Z
LAST-MODIFIED:20240329T022319Z
UID:2246-1711648800-1711650600@semanaazul.org
SUMMARY:Presentación del "Tour Azul"en Mar del Plata
DESCRIPTION:Se presentará el jueves 28 a las 18 en el Patinódromo Municipal de Mar Del Plata.Presentaremos todo sobre de la largada\, etapas y gran parte del equipo.
URL:https://semanaazul.org/event/presentacion-del-tour-azul/
LOCATION:Patinódromo de Mar del Plata\, Magallanes 6989\, Peralta Ramos Oeste\, Mar del Plata
ATTACH;FMTTYPE=image/jpeg:https://semanaazul.org/wp-content/uploads/2024/03/b6d4ccf1-d04d-40cd-9b00-0f6214149332.jpg
END:VEVENT
BEGIN:VEVENT
DTSTART;TZID=UTC:20240328T180000
DTEND;TZID=UTC:20240328T183000
DTSTAMP:20260421T102847
CREATED:20240325T181353Z
LAST-MODIFIED:20240402T112151Z
UID:1317-1711648800-1711650600@semanaazul.org
SUMMARY:Bicicleteada "Tour Azul"
DESCRIPTION:Se presentará el jueves 28 a las 18 en el Patinódromo Municipal de Mar Del Plata. Se largaal día siguiente\, harán distintas etapas y llegarán a Buenos Aires el martes 2/4 para participar y apoyar los actos que tradicionalmente se realizan ese día. \n\n\n\nDurante cuatro días\, pedalearemos 100km diarios con 8 tandems\, brindando la oportunidad a personas con autismo de disfrutar de la experiencia del ciclismo en tándem. Pasaremos noches en Las Armas\, Dolores\, Chascomús y Berazategui\, donde nos reuniremos con asociaciones de padres\, familias azulesy periodistas locales. Nuestro objetivo es concientizar sobre el Autismo y ampliar nuestra red de inclusión de personas con discapacidad en la sociedad a través del ciclismo en tándem\, buscando embajadores en el camino que se sumen a esta noble causa.
URL:https://semanaazul.org/event/bicicleteada-tour-azul/
LOCATION:Patinódromo Municipal de Mar del Plata\, Magallanes 6989\, Peralta Ramos Oeste\, Mar del Plata\, B7608GDS
ATTACH;FMTTYPE=image/jpeg:https://semanaazul.org/wp-content/uploads/2024/03/b9407516-12f1-4bf3-bc64-2c48ea18a525.jpg
END:VEVENT
BEGIN:VEVENT
DTSTART;TZID=America/Sao_Paulo:20240328T100000
DTEND;TZID=America/Sao_Paulo:20240328T100000
DTSTAMP:20260421T102847
CREATED:20240328T190548Z
LAST-MODIFIED:20240328T200709Z
UID:2183-1711620000-1711620000@semanaazul.org
SUMMARY:Jornada de capacitación de 4D Producciones con TEActiva
DESCRIPTION:@teactivaong realizó una jornada de capacitación al personal de @4dproducciones para despejar dudas sobre el autismo\, contar experiencias personales y abrir un momento de charla saliendo de la jornada laboral. \n\n\n\n💡 Participaron @gabriel_profiti\, director de 4D\, @colomorales\, fundador de 4D y presidente de @teactivaong\, y parte del equipo de 4D. \n\n\n\n📌 Fue en el marco de la #SemanaAzul\, una campaña con el objetivo de darle visibilidad al autismo. \n\n\n\n#hablemosdeautismo
URL:https://semanaazul.org/event/jornada-de-capacitacion-de-4d-producciones-con-teactiva/
ATTACH;FMTTYPE=image/jpeg:https://semanaazul.org/wp-content/uploads/2024/03/Imagen-de-WhatsApp-2024-03-28-a-las-16.02.35_427871e0.jpg
END:VEVENT
BEGIN:VEVENT
DTSTART;TZID=America/Sao_Paulo:20240328T093000
DTEND;TZID=America/Sao_Paulo:20240328T103000
DTSTAMP:20260421T102847
CREATED:20240331T214205Z
LAST-MODIFIED:20240331T214208Z
UID:2785-1711618200-1711621800@semanaazul.org
SUMMARY:Entrevista en LN+ con Antonio Laje
DESCRIPTION:Jorge Sengiali\, fundador de TGD Padres Tea\, dialogó con Antonio Laje en La Nación Más sobre la gran movida nacional de la Semana Azul para que #HablemosdeAutismo. Sengiali enfatizó sobre la importancia de tener políticas públicas vinculadas al autismo. \n\n\n\nMirá la nota acá
URL:https://semanaazul.org/event/entrevista-en-ln-con-antonio-laje/
ATTACH;FMTTYPE=image/jpeg:https://semanaazul.org/wp-content/uploads/2024/03/alaste.jpg
END:VEVENT
BEGIN:VEVENT
DTSTART;TZID=America/Sao_Paulo:20240328T080000
DTEND;TZID=America/Sao_Paulo:20240402T170000
DTSTAMP:20260421T102847
CREATED:20240330T232823Z
LAST-MODIFIED:20240330T232824Z
UID:2688-1711612800-1712077200@semanaazul.org
SUMMARY:El Puente de la Mujer\, azul por el autismo
DESCRIPTION:Al igual que la mayoría de los edificios emblemáticos de la Ciudad de Buenos Aires y los monumentos más icónicos como el Obelisco y el de Los Españoles\, el Puente de la Mujer se sumó a la gran movida de la Semana Azul para que #HablemosdeAutismo.
URL:https://semanaazul.org/event/el-puente-de-la-mujer-azul-por-el-autismo/
LOCATION:Puente de la Mujer\, Gorriti Juana Manuela 900\, Buenos Aires\, Argentina
ATTACH;FMTTYPE=image/jpeg:https://semanaazul.org/wp-content/uploads/2024/03/noticia_puente_de_la_mujer.jpg
END:VEVENT
BEGIN:VEVENT
DTSTART;TZID=America/Sao_Paulo:20240328T080000
DTEND;TZID=America/Sao_Paulo:20240401T170000
DTSTAMP:20260421T102847
CREATED:20240330T143914Z
LAST-MODIFIED:20240402T112228Z
UID:2573-1711612800-1711990800@semanaazul.org
SUMMARY:Vicente López hará campaña en redes para concientizar sobre el autismo
DESCRIPTION:El Día Mundial de la Concienciación sobre el Autismo es la oportunidad para generar una mayor conciencia respecto de la importancia de que los profesionales de la salud acompañemos el desarrollo subjetivo de niños y niñas desde los primeros momentos de su vida\, atendiendo especialmente a las dificultades inherentes a la comunicación que posibiliten intervenciones tempranas. A su vez\, debe hacerse hincapié en la importancia de acompañar a madres\, padres y familias de niños con autismo con una mirada amorosa y no moralizante. \n\n\n\nPodés encontrar toda la información en las redes del municipio y la Provincia
URL:https://semanaazul.org/event/vicente-lopez-hara-campana-en-redes-para-concientizar-sobre-el-autismo/
ATTACH;FMTTYPE=image/jpeg:https://semanaazul.org/wp-content/uploads/2024/03/9b3bffe6-30d9-4c88-b2db-3ee4f343f32e.jpg
END:VEVENT
BEGIN:VEVENT
DTSTART;TZID=America/Sao_Paulo:20240328T080000
DTEND;TZID=America/Sao_Paulo:20240401T170000
DTSTAMP:20260421T102847
CREATED:20240329T125018Z
LAST-MODIFIED:20240402T112120Z
UID:2289-1711612800-1711990800@semanaazul.org
SUMMARY:La Ciudad de Dolores unida a la Semana Azul
DESCRIPTION:El municipio de Dolores adhirió también a la gran movida nacional de la Semana Azul iluminando el Palacio Municipal. Será una de las ciudades por las que pase el Tour Azul\, la bicicleteada que une Mar del Plata y Buenos Aires para concientizar sobre el autismo.
URL:https://semanaazul.org/event/la-ciudad-de-dolores-unida-a-la-semana-azul/
LOCATION:Dolores\, Ruta 2\, km 251\, Dolores\, Buenos Aires\, Argentina
ATTACH;FMTTYPE=image/jpeg:https://semanaazul.org/wp-content/uploads/2024/03/b625ddb0-c1e0-402c-9468-2deecca7bc18.jpg
END:VEVENT
BEGIN:VEVENT
DTSTART;TZID=America/Sao_Paulo:20240328T080000
DTEND;TZID=America/Sao_Paulo:20240328T170000
DTSTAMP:20260421T102847
CREATED:20240328T105813Z
LAST-MODIFIED:20240330T014502Z
UID:1797-1711612800-1711645200@semanaazul.org
SUMMARY:Programación especial de radio Conexión Abierta
DESCRIPTION:Queremos comunicarles que nuestro medio\, perteneciente a la Universidad Abierta Interamericana\, se suma a la campaña “SEMANA AZUL”\, hasta el 02 de Abril. De este modo\, nuestro color institucional pasará del bordó\, al azul\, aplicado en nuestra web\, redes sociales\, flyers\, logo\, photo props\, e indumentaria de nuestro personal y conductores de nuestra emisora. 
URL:https://semanaazul.org/event/programacion-especial-de-radio-conexion-abierta/
LOCATION:Conexión Abierta – UAI\, Av. San Juan 951\, Buenos Aires
ATTACH;FMTTYPE=image/jpeg:https://semanaazul.org/wp-content/uploads/2024/03/CONEXION-ABIERTA-CONDUCTOR.jpeg
END:VEVENT
BEGIN:VEVENT
DTSTART;TZID=America/Sao_Paulo:20240328T000000
DTEND;TZID=America/Sao_Paulo:20240401T235959
DTSTAMP:20260421T102847
CREATED:20240328T174722Z
LAST-MODIFIED:20240402T112518Z
UID:2115-1711584000-1712015999@semanaazul.org
SUMMARY:Radio conexión abierta azul
DESCRIPTION:Nuestro medio\, perteneciente a la Universidad Abierta Interamericana\, se suma a la campaña “SEMANA AZUL”. \n\n\n\nDe este modo\, nuestro color institucional pasará del bordó\, al azul\, aplicado en nuestra web\, redes sociales\, flyers\, logo\, photo props\, e indumentaria de nuestro personal y conductores de nuestra emisora. 
URL:https://semanaazul.org/event/radio-conexion-abierta-azul-2/
ATTACH;FMTTYPE=image/jpeg:https://semanaazul.org/wp-content/uploads/2024/03/ESTUDIO_DE_RADIO_-_PLACA_Y_LOGOS_2.jpg
ORGANIZER;CN="RADIO CONEXION ABIERTA":MAILTO:daniela.ferrin@uai.edu.ar
END:VEVENT
BEGIN:VEVENT
DTSTART;TZID=America/Sao_Paulo:20240328T000000
DTEND;TZID=America/Sao_Paulo:20240401T235959
DTSTAMP:20260421T102847
CREATED:20240328T171320Z
LAST-MODIFIED:20240402T112035Z
UID:2066-1711584000-1712015999@semanaazul.org
SUMMARY:Mensaje de concientización de Axion Energy por la Semana Azul
DESCRIPTION:La compañía Axion Energy difundió su mensaje de concientización por la Semana Azul a través de sus redes sociales\, con el objetivo de visibilizar la problemática y lograr mayor sensibilización en la sociedad. \n\n\n\nEnterate acá.
URL:https://semanaazul.org/event/mensaje-de-concientizacion-de-axion-energy-por-la-semana-azul/
ATTACH;FMTTYPE=image/jpeg:https://semanaazul.org/wp-content/uploads/2024/03/ax89h.jpg
END:VEVENT
BEGIN:VEVENT
DTSTART;TZID=America/Sao_Paulo:20240328T000000
DTEND;TZID=America/Sao_Paulo:20240401T235959
DTSTAMP:20260421T102847
CREATED:20240328T164503Z
LAST-MODIFIED:20240402T111951Z
UID:2026-1711584000-1712015999@semanaazul.org
SUMMARY:Tigre se suma a la Semana Azul
DESCRIPTION:Tigre iluminó su palacio municipal de color azul para darle el comienzo a la Semana Azul. \n\n\n\nA través de sus redes sociales\, el Municipio de Tigre expresó: “Hoy finaliza el primer día de la #SemanaAzul\, iniciativa creada para generar conciencia sobre el autismo en todo el país 💙🐯”.
URL:https://semanaazul.org/event/tigre-se-suma-a-la-semana-azul/
ATTACH;FMTTYPE=image/png:https://semanaazul.org/wp-content/uploads/2024/03/Captura-de-pantalla-2024-03-28-134055-1.png
END:VEVENT
BEGIN:VEVENT
DTSTART;TZID=America/Sao_Paulo:20240328T000000
DTEND;TZID=America/Sao_Paulo:20240331T235959
DTSTAMP:20260421T102847
CREATED:20240328T172039Z
LAST-MODIFIED:20240402T112438Z
UID:2073-1711584000-1711929599@semanaazul.org
SUMMARY:TyC Sports comparte el movimiento por la Semana Azul
DESCRIPTION:La señal TyC Sports compartió la iniciativa por la Semana Azul impulsada por TEActiva con el objetivo de promover la consigna #hablemosdeautismo.
URL:https://semanaazul.org/event/tyc-sports-comparte-el-movimiento-por-la-semana-azul/
ATTACH;FMTTYPE=image/webp:https://semanaazul.org/wp-content/uploads/2024/03/semana-azul_862x485-1.webp
END:VEVENT
BEGIN:VEVENT
DTSTART;TZID=America/Sao_Paulo:20240328T000000
DTEND;TZID=America/Sao_Paulo:20240328T235959
DTSTAMP:20260421T102847
CREATED:20240329T144750Z
LAST-MODIFIED:20240329T164754Z
UID:2345-1711584000-1711670399@semanaazul.org
SUMMARY:Pictotienda
DESCRIPTION:En la semana de concientización sobre el autismos los invitamos a participar de la campaña “pictotienda” \n\n\n\nSi conocés algún local que le interese concientizar sobre la prioridad de atención (para personas con discapacidad\, adultos mayores\, embarazadas\, etc.) acercale este link. \n\n\n\nEsta iniciativa concientiza a comercios y clientes sobre la prioridad de atención\, la reducción de estímulos sonoros y visuales como también la predisposición para ofrecer otros apoyos. \n\n\n\nTambien proponemos alentar a grupos de alumnos abordar la iniciativa en los comercios del barrio y así concientizamos juntos. \n\n\n\n Es recomendable colocar el cartel en la puerta a metro y medio para que esté en un lugar visible. \n\n\n\nElegí uno de los carteles del siguiente link y etiquetanos tu foto o video en el ig: @pictogramas.arg \n\n\n\nSumate!
URL:https://semanaazul.org/event/pictotienda/
ATTACH;FMTTYPE=image/jpeg:https://semanaazul.org/wp-content/uploads/2024/03/ScexPap4iQ6f-WhatsApp-Image-2024-03-27-at-22.00.29.jpeg
END:VEVENT
BEGIN:VEVENT
DTSTART;TZID=America/Sao_Paulo:20240328T000000
DTEND;TZID=America/Sao_Paulo:20240328T235959
DTSTAMP:20260421T102847
CREATED:20240328T173814Z
LAST-MODIFIED:20240330T014325Z
UID:2102-1711584000-1711670399@semanaazul.org
SUMMARY:Semana Azul\, presente en el partido entre Lanús y Unión
DESCRIPTION:Durante el partido entre el Club atlético Lanús vs Unión de Santa Fe\, en los carteles publicitarios se viralizó el evento #Semanaazul.org #hablemosdeautismo.
URL:https://semanaazul.org/event/semana-azul-presente-en-el-partido-entre-lanus-y-union/
ATTACH;FMTTYPE=image/jpeg:https://semanaazul.org/wp-content/uploads/2024/03/hablemos-de-autismo.jpg
END:VEVENT
BEGIN:VEVENT
DTSTART;TZID=America/Sao_Paulo:20240328T000000
DTEND;TZID=America/Sao_Paulo:20240328T235959
DTSTAMP:20260421T102847
CREATED:20240328T163512Z
LAST-MODIFIED:20240330T012437Z
UID:2012-1711584000-1711670399@semanaazul.org
SUMMARY:Entrevista en redes sociales
DESCRIPTION:Entrevista\, en nuestras redes sociales\, a Nancy\, mamá de Emma\, quien nos compartió su experiencia sobre cómo detectaron los primeros signos de esta condición y cómo han afrontado el proceso de diagnóstico de su hija.Instagram de Diagnóstico Rojas: http://www.instagram.com/diagnosticorojas/Facebook de Diagnóstico Rojas: http://www.facebook.com/DiagnosticoRojasEntrevista completa en: http://www.diagnosticorojas.com.ar/semana-azul/
URL:https://semanaazul.org/event/entrevista-en-redes-sociales/
ATTACH;FMTTYPE=image/jpeg:https://semanaazul.org/wp-content/uploads/2024/03/download-6.jpg
ORGANIZER;CN="Diagn%C3%B3stico Rojas":MAILTO:claudia.rogocki@diagnosticorojas.com.ar
END:VEVENT
BEGIN:VEVENT
DTSTART;TZID=America/Sao_Paulo:20240328T000000
DTEND;TZID=America/Sao_Paulo:20240328T235959
DTSTAMP:20260421T102847
CREATED:20240328T162013Z
LAST-MODIFIED:20240330T013042Z
UID:2001-1711584000-1711670399@semanaazul.org
SUMMARY:Entrevista a Paulo Morales\, presidente de TEActiva
DESCRIPTION:Entrevista a Paulo Morales\, presidente y fundador de TEActiva\, en Juntos en Continental conducido por Fernando Carnota junto a Fernanda Carbonell\, Osvaldo Granados y Gustavo Medina.       
URL:https://semanaazul.org/event/entrevista-a-paulo-morales-presidente-de-teactiva/
ATTACH;FMTTYPE=image/jpeg:https://semanaazul.org/wp-content/uploads/2024/03/Continental.jpg
END:VEVENT
BEGIN:VEVENT
DTSTART;TZID=America/Sao_Paulo:20240328T000000
DTEND;TZID=America/Sao_Paulo:20240328T235959
DTSTAMP:20260421T102847
CREATED:20240328T151931Z
LAST-MODIFIED:20240330T015050Z
UID:1931-1711584000-1711670399@semanaazul.org
SUMMARY:Campaña de sensibilización y concientización
DESCRIPTION:En el contexto de la Semana Azul\, Diagnóstico Rojas participa activamente para sensibilizar y concientizar sobre el Autismo en nuestra sociedad. Este compromiso se refleja a través de distintas iniciativas de sus sedes. \n\n\n\nPor un lado\, instalaron iluminación nocturna de color azul en sus fachadas e internamente proporcionaron carteles con códigos QR que brindan acceso a información digitalizada sobre el Autismo.  \n\n\n\nAdemás\, en sus plataformas de redes sociales\, durante este período\, el logo de Diagnóstico Rojas estará acompañado por un lazo azul\, y compartirán una serie de entrevistas sobre el Autismo para enriquecer la comprensión del tema desde múltiples perspectivas. \n\n\n\nEn estas entrevistas\, cuentan con la participación de profesionales\, como la psicóloga Gisela Gil Ballester (MN. 37687 y MP. 97971) y la Dra. Valeria Daniele (MN. 164374 y MP. 456432) del Equipo Cloe (@equipo_cloe)\, que aportaron sus conocimientos especializados para entender el Autismo desde una perspectiva médica e interdisciplinaria. \n\n\n\nAdemás\, se entrevistaron a madres de hijos/as con Autismo\, quienes compartieron sus experiencias sobre cómo detectaron los primeros signos de esta condición y cómo han afrontado el proceso de diagnóstico de sus hijos/as. \n\n\n\nPor último\, conversaron con el activista e influencer Ian Moche (@ianmoche)\, que nos explicó en primera persona cómo siente y cómo percibe el mundo un niño autista\, y algunas reflexiones acerca de lo que aún nos queda pendiente como sociedad frente a esta condición. \n\n\n\nMirá el contenido completo en la web de Diagnóstico Rojas: http://www.diagnosticorojas.com.ar
URL:https://semanaazul.org/event/campana-de-sensibilizacion-y-concientizacion/
ATTACH;FMTTYPE=image/jpeg:https://semanaazul.org/wp-content/uploads/2024/03/Semana-azul-rojas.jpg
ORGANIZER;CN="Diagn%C3%B3stico Rojas":MAILTO:claudia.rogocki@diagnosticorojas.com.ar
END:VEVENT
BEGIN:VEVENT
DTSTART;TZID=America/Sao_Paulo:20240328T000000
DTEND;TZID=America/Sao_Paulo:20240328T235959
DTSTAMP:20260421T102847
CREATED:20240328T144519Z
LAST-MODIFIED:20240330T025123Z
UID:1881-1711584000-1711670399@semanaazul.org
SUMMARY:Teñimos las redes sociales de azul
DESCRIPTION:Durante toda la semana\, van a quedar los posteos en primera fila del perfil de Scienza y la compañía acompañará con nuevos contenidos de sensibilización en los días que siguen.
URL:https://semanaazul.org/event/tenimos-las-redes-sociales-de-azul/
ATTACH;FMTTYPE=image/jpeg:https://semanaazul.org/wp-content/uploads/2024/03/IG_feed_1.jpg
ORGANIZER;CN="Scienza":MAILTO:jdelsel@scienza.com.ar
END:VEVENT
END:VCALENDAR